BEGIN:VCALENDAR
VERSION:2.0
PRODID:-//Refeyn - ECPv6.15.20//NONSGML v1.0//EN
CALSCALE:GREGORIAN
METHOD:PUBLISH
X-WR-CALNAME:Refeyn
X-ORIGINAL-URL:https://refeyn.com
X-WR-CALDESC:Events for Refeyn
REFRESH-INTERVAL;VALUE=DURATION:PT1H
X-Robots-Tag:noindex
X-PUBLISHED-TTL:PT1H
BEGIN:VTIMEZONE
TZID:Europe/Vienna
BEGIN:DAYLIGHT
TZOFFSETFROM:+0100
TZOFFSETTO:+0200
TZNAME:CEST
DTSTART:20250330T010000
END:DAYLIGHT
BEGIN:STANDARD
TZOFFSETFROM:+0200
TZOFFSETTO:+0100
TZNAME:CET
DTSTART:20251026T010000
END:STANDARD
BEGIN:DAYLIGHT
TZOFFSETFROM:+0100
TZOFFSETTO:+0200
TZNAME:CEST
DTSTART:20260329T010000
END:DAYLIGHT
BEGIN:STANDARD
TZOFFSETFROM:+0200
TZOFFSETTO:+0100
TZNAME:CET
DTSTART:20261025T010000
END:STANDARD
BEGIN:DAYLIGHT
TZOFFSETFROM:+0100
TZOFFSETTO:+0200
TZNAME:CEST
DTSTART:20270328T010000
END:DAYLIGHT
BEGIN:STANDARD
TZOFFSETFROM:+0200
TZOFFSETTO:+0100
TZNAME:CET
DTSTART:20271031T010000
END:STANDARD
END:VTIMEZONE
BEGIN:VEVENT
DTSTART;VALUE=DATE:20260506
DTEND;VALUE=DATE:20260510
DTSTAMP:20260424T052852
CREATED:20251203T210538Z
LAST-MODIFIED:20251215T202121Z
UID:18418-1778025600-1778371199@refeyn.com
SUMMARY:International Society for Cell & Gene Therapy
DESCRIPTION:
URL:https://refeyn.com/events-calendar/international-society-for-cell-gene-therapy
LOCATION:Dublin CG\, Spencer Dock\, N Wall Quay\, Dublin\, Dublin\, D01 T1W6\, Ireland
CATEGORIES:Trade Show
ATTACH;FMTTYPE=image/jpeg:https://refeyn.com/wp-content/uploads/2025/12/ISCT_2026_Dublin.jpg
GEO:53.3473591;-6.2369232
X-APPLE-STRUCTURED-LOCATION;VALUE=URI;X-ADDRESS=Dublin CG Spencer Dock N Wall Quay Dublin Dublin D01 T1W6 Ireland;X-APPLE-RADIUS=500;X-TITLE=Spencer Dock\, N Wall Quay:geo:-6.2369232,53.3473591
END:VEVENT
END:VCALENDAR