BEGIN:VCALENDAR
VERSION:2.0
PRODID:-//Refeyn - ECPv6.15.20//NONSGML v1.0//EN
CALSCALE:GREGORIAN
METHOD:PUBLISH
X-WR-CALNAME:Refeyn
X-ORIGINAL-URL:https://refeyn.com
X-WR-CALDESC:Events for Refeyn
REFRESH-INTERVAL;VALUE=DURATION:PT1H
X-Robots-Tag:noindex
X-PUBLISHED-TTL:PT1H
BEGIN:VTIMEZONE
TZID:Europe/London
BEGIN:DAYLIGHT
TZOFFSETFROM:+0000
TZOFFSETTO:+0100
TZNAME:BST
DTSTART:20250330T010000
END:DAYLIGHT
BEGIN:STANDARD
TZOFFSETFROM:+0100
TZOFFSETTO:+0000
TZNAME:GMT
DTSTART:20251026T010000
END:STANDARD
BEGIN:DAYLIGHT
TZOFFSETFROM:+0000
TZOFFSETTO:+0100
TZNAME:BST
DTSTART:20260329T010000
END:DAYLIGHT
BEGIN:STANDARD
TZOFFSETFROM:+0100
TZOFFSETTO:+0000
TZNAME:GMT
DTSTART:20261025T010000
END:STANDARD
BEGIN:DAYLIGHT
TZOFFSETFROM:+0000
TZOFFSETTO:+0100
TZNAME:BST
DTSTART:20270328T010000
END:DAYLIGHT
BEGIN:STANDARD
TZOFFSETFROM:+0100
TZOFFSETTO:+0000
TZNAME:GMT
DTSTART:20271031T010000
END:STANDARD
END:VTIMEZONE
BEGIN:VEVENT
DTSTART;TZID=Europe/London:20260513T153000
DTEND;TZID=Europe/London:20260513T163000
DTSTAMP:20260423T055422
CREATED:20260422T094214Z
LAST-MODIFIED:20260422T094450Z
UID:19932-1778686200-1778689800@refeyn.com
SUMMARY:Stopping Bad Samples at the Door: Mass Photometry for Cryo‑EM Success
DESCRIPTION:In this webinar\, Dr. Mathias Gschell\, Head of Cryo-EM\, BIMOVIS GmbH\, will show how mass photometry significantly outperforms traditional methods like analytical size exclusion chromatography (SEC)\, and why it is an essential part of structure determination workflows.
URL:https://refeyn.com/events-calendar/stopping-bad-samples-at-the-door-mass-photometry-for-cryo-em-success
LOCATION:Virtual Event\, United Kingdom
CATEGORIES:Webinar
ATTACH;FMTTYPE=image/png:https://refeyn.com/wp-content/uploads/2026/04/Social-media-banner-.png
GEO:55.378051;-3.435973
END:VEVENT
END:VCALENDAR